BEGIN:VCALENDAR
VERSION:2.0
PRODID:-//Morris &amp; McDaniel - ECPv6.15.14//NONSGML v1.0//EN
CALSCALE:GREGORIAN
METHOD:PUBLISH
X-ORIGINAL-URL:https://mmtests.org
X-WR-CALDESC:Events for Morris &amp; McDaniel
REFRESH-INTERVAL;VALUE=DURATION:PT1H
X-Robots-Tag:noindex
X-PUBLISHED-TTL:PT1H
BEGIN:VTIMEZONE
TZID:America/Chicago
BEGIN:DAYLIGHT
TZOFFSETFROM:-0600
TZOFFSETTO:-0500
TZNAME:CDT
DTSTART:20250309T080000
END:DAYLIGHT
BEGIN:STANDARD
TZOFFSETFROM:-0500
TZOFFSETTO:-0600
TZNAME:CST
DTSTART:20251102T070000
END:STANDARD
BEGIN:DAYLIGHT
TZOFFSETFROM:-0600
TZOFFSETTO:-0500
TZNAME:CDT
DTSTART:20260308T080000
END:DAYLIGHT
BEGIN:STANDARD
TZOFFSETFROM:-0500
TZOFFSETTO:-0600
TZNAME:CST
DTSTART:20261101T070000
END:STANDARD
BEGIN:DAYLIGHT
TZOFFSETFROM:-0600
TZOFFSETTO:-0500
TZNAME:CDT
DTSTART:20270314T080000
END:DAYLIGHT
BEGIN:STANDARD
TZOFFSETFROM:-0500
TZOFFSETTO:-0600
TZNAME:CST
DTSTART:20271107T070000
END:STANDARD
END:VTIMEZONE
BEGIN:VEVENT
DTSTART;TZID=America/Chicago:20260331T080000
DTEND;TZID=America/Chicago:20260402T170000
DTSTAMP:20260421T143433
CREATED:20260115T185736Z
LAST-MODIFIED:20260410T194414Z
UID:10001005-1774944000-1775149200@mmtests.org
SUMMARY:Bristol\, CT Fire Lieutenant\, Captain\, Deputy Chief Assessment Center
DESCRIPTION:Bristol\, CT\n				\n				\n			\n				\n				\n				\n				\n				Assessor Qualifications:\nAssessors must be of the rank of\, or equivalent to\, Deputy Chief or higher AND must have been in that rank for at least two years. If possible we are seeking seven (7) assessors of this rank to fill two (2) diverse panels. Additionally\, we will need assessors the rank of\, or equivalent to\, Lieutenant or higher AND must have been in that rank for at least two years. If possible we are seeking six (6) assessors of this rank to fill two (2) diverse panels. In total\, we are seeking (13) assessors who are able to drive to Bristol\, CT to fill four (4) diverse panels\, by both gender and race\, of firefighters who fit the above criteria and are available to attend and serve as an assessor. \nLogistical Specifics: \nThe Assessment Center activities will be held in Bristol\, CT. Each assessor will be provided with round-trip transportation (mileage)\, a private sleeping room\, and food per diem. \n			\n				\n				\n				\n				\n				\n				\n				\n					Submit Assessor Interest Form\n                \n                    Assessor Interest Form\n                    \n\n                \n                        CompanyThis field is for validation purposes and should be left unchanged.Formally Recruiting\n								\n								\n							Join Waitlist\n								\n								Denton\, TX Police Sergeant + Lieutenant AC\n							\n								\n								Miramar\, FL Fire Battalion Chief Assessment Center — May 22\, 2026\n							\n								\n								Toledo\, OH Fire Captain Virtual Assessment Center\n							\n								\n								Bristol\, CT Fire Lieutenant\, Captain\, Deputy Chief Assessment Center (February 25-27\, 2026)\n							\n								\n								Dallas\, TX Fire Lieutenant Assessment Center\n							I confirm I meet the minimum requirements for serving as an assessors for this process\, and am available for the dates being requested.(Required)\n								\n								Yes\n							I understand that this in an interest form and my information must be vetted. I understand that by submitting this form\, it does not mean that I am confirmed as an assessor for this process.(Required)\n								\n								Yes\n							NameEmail\n                            \n                        \n          \n            \n            \n            \n            \n            \n            \n            \n            \n            \n            \n            \n            \n            \n        \n                        \n                        \n\n                    \n					\n                \n            \n				\n			\n			\n				\n				\n				\n				\n				\n				\n				\n				\n				\n				\n			\n				\n				\n				\n				\n				\n					\n					\n						Date\n						March 31 – April 2\, 2026\n					\n				\n			\n				\n				\n				\n				\n				\n					\n					\n						Location\n						Bristol\, CT\n					\n				\n			\n			\n				\n				\n				\n				\n			\n				\n				\n				\n				\n				\n				\n				\n				\n				\n				\n				The dates of the Assessment Center process are as follows:\n\n\n\nDate\nActivity\n\n\n\n\nTuesday\, March 31\nArrival into Bristol\, CT\n\n\nWednesday\, April 1\nIntensive Training Session on Assessment Center Methodology; Assessment Center Scoring Process\n\n\nWednesday\, April 1 – Thursday\, April 2\nAssessment Center Scoring ProcessTwo (2) Panels of Deputy Chiefs Scoring Deputy Chief/Captain Candidates – 1 SE\, 1 OTTwo (2) Panels of Lieutenants\, or higher\, Scoring Lieutenant Candidates – 1 SE\, 1 OT\n\n\nThursday\, April 2\nDepart Bristol\, CT (after 5 pm)\n\n\n\n			\n			\n				\n				\n				\n				\n			\n				\n				\n				\n				\n				\n				\n				\n				\n				\n				\n				If you have not yet signed up to be a Morris & McDaniel’s Assessor portal member\, click here to sign up and see all of our assessor opportunities. 
URL:https://mmtests.org/event/bristol-ct-fire-lieutenant-captain-deputy-chief-assessment-center/
LOCATION:Bristol\, CT\, 06010
CATEGORIES:CT,Fire,Fire Captain,Fire Chief,Fire Lieutenant,Fully Recruited,Wait List
ATTACH;FMTTYPE=image/jpeg:https://mmtests.org/wp-content/uploads/2026/01/Bristol-CT-fire-department-logo.jpg
END:VEVENT
END:VCALENDAR